BEGIN:VCALENDAR
VERSION:2.0
PRODID:-//InvisionCommunity Events 4.7.12//EN
METHOD:PUBLISH
CALSCALE:GREGORIAN
REFRESH-INTERVAL:PT15M
X-PUBLISHED-TTL:PT15M
X-WR-CALNAME:Spamily Calendar
NAME:Spamily Calendar
BEGIN:VTIMEZONE
TZID:Europe/London
TZURL:http://tzurl.org/zoneinfo/Europe/London
X-LIC-LOCATION:Europe/London
BEGIN:DAYLIGHT
TZOFFSETFROM:+0000
TZOFFSETTO:+0100
TZNAME:BST
DTSTART:20010325T020000Z
RRULE:FREQ=YEARLY;BYMONTH=3;BYDAY=-1SU
END:DAYLIGHT
BEGIN:STANDARD
TZOFFSETFROM:+0100
TZOFFSETTO:+0000
TZNAME:GMT
DTSTART:20011028T020000Z
RRULE:FREQ=YEARLY;BYMONTH=10;BYDAY=-1SU
END:STANDARD
END:VTIMEZONE
BEGIN:VEVENT
SUMMARY:Rosie's Birthday
DTSTAMP:20191211T224246Z
SEQUENCE:0
UID:656-6-f975e2949f6a2818c57cd2c3d71e0bee@onehallyu.com
ORGANIZER;CN="Trashie":no-reply@onehallyu.com
DESCRIPTION:\n\n	Happy Rosie Day\n\n
DTSTART;VALUE=DATE:20010628
RRULE:FREQ=YEARLY;INTERVAL=1
END:VEVENT
END:VCALENDAR
